BEGIN:VCALENDAR
VERSION:2.0
PRODID:-//Century Village Museum - ECPv6.15.20//NONSGML v1.0//EN
CALSCALE:GREGORIAN
METHOD:PUBLISH
X-WR-CALNAME:Century Village Museum
X-ORIGINAL-URL:https://centuryvillagemuseum.org
X-WR-CALDESC:Events for Century Village Museum
REFRESH-INTERVAL;VALUE=DURATION:PT1H
X-Robots-Tag:noindex
X-PUBLISHED-TTL:PT1H
BEGIN:VTIMEZONE
TZID:UTC
BEGIN:STANDARD
TZOFFSETFROM:+0000
TZOFFSETTO:+0000
TZNAME:UTC
DTSTART:20230101T000000
END:STANDARD
END:VTIMEZONE
BEGIN:VTIMEZONE
TZID:UTC
BEGIN:STANDARD
TZOFFSETFROM:+0000
TZOFFSETTO:+0000
TZNAME:UTC
DTSTART:20230101T000000
END:STANDARD
END:VTIMEZONE
BEGIN:VEVENT
DTSTART;TZID=UTC:20240708T100000
DTEND;TZID=UTC:20240712T150000
DTSTAMP:20260419T110221
CREATED:20190604T125349Z
LAST-MODIFIED:20240704T121948Z
UID:483-1720432800-1720796400@centuryvillagemuseum.org
SUMMARY:PIONEER SCHOOL 51st ANNIVERSARY
DESCRIPTION:About the event\n\n\nPIONEER  SCHOOL 51st  ANNIVERSARY \nJuly 8 – July 12\, 2024 \nThis annual program is rapidly approaching fifty one consecutive years and takes place in July every year. \nEach day begins at 10 a.m. and concludes at 3 p.m. \nAll activities take place on the grounds of the Society’s Century Village Museum in Burton\, Ohio. \nThe age range for children is 8 to 12 years old. \n*** (Consider joining our membership to receive a discounted rate on Pioneer School.) *** \nFollow here for the Facebook event page and more info: https://fb.me/e/5bAX6Hx7p \nSPACE IS LIMITED SO RESERVE YOUR SPOT TODAY! \nGEAUGA COUNTY HISTORICAL SOCIETY PIONEER SCHOOL REGISTRATION 2024 \nAges 8-12 years \nCost: $100 for GCHS Members \n$120 for Non-Members \nPlease complete the registration form by June 28\, 2024. \nMake check payable to GCHS and mail with registration to: \nGeauga County Historical Society PO Box 153 \nBurton\, Oh 44021 Attn: Pioneer School \nPlease contact our office (440)834-1492 if you need assistance. \nOr online https://www.centuryvillagemuseum.org/ \n*** If you wish you may bring a packed lunch\, to meet any dietary needs or requirements\,  to enjoy lunch on the grounds ***
URL:https://centuryvillagemuseum.org/event/pioneer-school-51st-anniversary/
LOCATION:Century Village Museum\, 14653 E Park St\,\, Burton\, OH\, 44021\, United States
CATEGORIES:Burton
ATTACH;FMTTYPE=image/webp:https://centuryvillagemuseum.org/wp-content/uploads/2019/06/97f082_96dfe29d8eb74e2cb47af22b220094c0mv2.webp
END:VEVENT
BEGIN:VEVENT
DTSTART;TZID=UTC:20240708T100000
DTEND;TZID=UTC:20240712T150000
DTSTAMP:20260419T110221
CREATED:20190604T125223Z
LAST-MODIFIED:20240704T121438Z
UID:480-1720432800-1720796400@centuryvillagemuseum.org
SUMMARY:2024 Pioneer School July 8-12\, 2024
DESCRIPTION:About the event\n\n\nPIONEER  SCHOOL 51st  ANNIVERSARY July 8 – July 12\, 2024  \nConsider joining our membership to receive a discounted rate on Pioneer School  \nThis annual program is rapidly approaching fifty one consecutive years and takes place in July every year.   \nEach day begins at 10 a.m. and concludes at 3 p.m.   \nAll activities take place on the grounds of the Society’s Century Village Museum in Burton\, Ohio.  The age range for children is 8 to 12 years old. \nMembers: $100 \nNon Members $200 \nCentury Village Museum \n14653 E Park St\, Burton\, OH 44021\, USA \n*** If you wish you may bring a packed lunch\, to meet any dietary needs or requirements\,  to enjoy lunch on the grounds ***
URL:https://centuryvillagemuseum.org/event/2024-pioneer-school-july-8-12-2024/
LOCATION:Burton\, 14653 E Park St\, Burton\,\, Burton\, OH 44021\, United States
CATEGORIES:Burton
ATTACH;FMTTYPE=image/webp:https://centuryvillagemuseum.org/wp-content/uploads/2019/06/97f082_996f16b23deb417a98df9056b7b4b04emv2.webp
END:VEVENT
END:VCALENDAR