BEGIN:VCALENDAR
VERSION:2.0
PRODID:-//Century Village Museum - ECPv6.15.20//NONSGML v1.0//EN
CALSCALE:GREGORIAN
METHOD:PUBLISH
X-ORIGINAL-URL:https://centuryvillagemuseum.org
X-WR-CALDESC:Events for Century Village Museum
REFRESH-INTERVAL;VALUE=DURATION:PT1H
X-Robots-Tag:noindex
X-PUBLISHED-TTL:PT1H
BEGIN:VTIMEZONE
TZID:America/New_York
BEGIN:DAYLIGHT
TZOFFSETFROM:-0500
TZOFFSETTO:-0400
TZNAME:EDT
DTSTART:20250309T070000
END:DAYLIGHT
BEGIN:STANDARD
TZOFFSETFROM:-0400
TZOFFSETTO:-0500
TZNAME:EST
DTSTART:20251102T060000
END:STANDARD
BEGIN:DAYLIGHT
TZOFFSETFROM:-0500
TZOFFSETTO:-0400
TZNAME:EDT
DTSTART:20260308T070000
END:DAYLIGHT
BEGIN:STANDARD
TZOFFSETFROM:-0400
TZOFFSETTO:-0500
TZNAME:EST
DTSTART:20261101T060000
END:STANDARD
BEGIN:DAYLIGHT
TZOFFSETFROM:-0500
TZOFFSETTO:-0400
TZNAME:EDT
DTSTART:20270314T070000
END:DAYLIGHT
BEGIN:STANDARD
TZOFFSETFROM:-0400
TZOFFSETTO:-0500
TZNAME:EST
DTSTART:20271107T060000
END:STANDARD
END:VTIMEZONE
BEGIN:VEVENT
DTSTART;TZID=America/New_York:20261011T000000
DTEND;TZID=America/New_York:20261011T235959
DTSTAMP:20260422T092716
CREATED:20260408T102140Z
LAST-MODIFIED:20260408T103314Z
UID:17032-1791676800-1791763199@centuryvillagemuseum.org
SUMMARY:Cow & Pig Raffle
DESCRIPTION:🎟️ Raffle Time! 🎟️\nJoin us for our exciting Cow & Pig Raffles to benefit the Century Village Museum! \n🎟️ Tickets are only $20 each — get yours today! \n🥩 COW RAFFLE\n\nWin a 1/4 Cow\, locally grown!\nFour lucky winners will be drawn!\nWinners do not need to be present.\nDrawing date: Sunday\, October 11th\, 2026 at the Apple Butter Festival\n\n🥓 PIG RAFFLE\n\nWin a 1/2 Pig\, locally grown!\nFour lucky winners will be drawn!\nWinners do not need to be present.\nDrawing date: Sunday\, October 11th\, 2026 at the Apple Butter Festival\n\n\nAll proceeds support the Century Village Museum. \nGet your tickets now and support a great cause! Experience the excitement of the Cow & Pig Raffle at Century Village Museum! Win amazing prizes and support our community. Secure your spot now!
URL:https://centuryvillagemuseum.org/event/cow-pig-raffle/
LOCATION:Century Village Museum\, 14653 E Park St\,\, Burton\, OH\, 44021\, United States
CATEGORIES:Raffle
ATTACH;FMTTYPE=image/jpeg:https://centuryvillagemuseum.org/wp-content/uploads/2026/04/CownPigRaffle2026-website-scaled.jpg
ORGANIZER;CN="Century Village Museum":MAILTO:info@geaugahistorical.org
END:VEVENT
BEGIN:VEVENT
DTSTART;TZID=America/New_York:20260523T100000
DTEND;TZID=America/New_York:20260524T170000
DTSTAMP:20260422T092716
CREATED:20260129T233026Z
LAST-MODIFIED:20260327T134634Z
UID:16383-1779530400-1779642000@centuryvillagemuseum.org
SUMMARY:Civil War Living History Weekend
DESCRIPTION:Civil War Living History Weekend\nAre you a re-enactor? Click here to register your unit. \nStep back into the 1860s and experience a pivotal era of American history like never before. Century Village Museum invites you to an immersive weekend where history comes alive through authentic sights\, sounds\, and interactions. \nWalk through genuine Civil War encampments\, meet living history soldiers\, and witness the reality of the era through detailed demonstrations. This educational and interactive event is designed for all ages\, offering families a unique opportunity to see period uniforms\, equipment\, and battle tactics up close. \nEvent Highlights: \n\nLiving History Soldiers: Interact with reenactors who bring the personal stories of the 1860s to life.\nAuthentic Encampments: Explore military camps and see how soldiers lived during the war.\nBattle Reenactments: Witness dynamic demonstrations of Civil War skirmishes and tactics.\nPeriod Equipment: View authentic uniforms\, weaponry\, and daily artifacts from the era.\n\nEvent Details \n\nDate: May 23–24\nTime: 10:00 AM – 5:00 PM\nLocation: Century Village Museum\, Geauga County
URL:https://centuryvillagemuseum.org/event/civil-war-living-history-weekend/
LOCATION:Century Village Museum\, 14653 E Park St\,\, Burton\, OH\, 44021\, United States
CATEGORIES:Exhibitions
ATTACH;FMTTYPE=image/jpeg:https://centuryvillagemuseum.org/wp-content/uploads/2026/01/Civil-War-Living-History-Weekend.jpeg
ORGANIZER;CN="Century Village Museum":MAILTO:info@geaugahistorical.org
END:VEVENT
BEGIN:VEVENT
DTSTART;TZID=America/New_York:20260711T140000
DTEND;TZID=America/New_York:20260711T210000
DTSTAMP:20260422T092716
CREATED:20260211T104905Z
LAST-MODIFIED:20260324T092859Z
UID:16458-1783778400-1783803600@centuryvillagemuseum.org
SUMMARY:Maple Splash Festival 2026
DESCRIPTION:A Summer Celebration of Community & Fun\nGet ready for the excitement of the Maple Splash Festival! Hosted in partnership with The Rotary Club of Burton Middlefield\, this massive community gathering is the perfect way to spend a summer Saturday on the beautiful grounds of Century Village Museum. \nBring your lawn chairs\, gather your friends\, and settle in for a day filled with live entertainment\, delicious local eats\, and the thrill of the big draw. \nEvent Highlights\n\nLive Music: Enjoy high-energy performances by Pieces of Eight and the Lakeside Brass.\nFood & Drink: Grab a bite from local favorites like Wheely Good Food and Dilly Dilly Donuts CLE\, or visit the Beer Tent for refreshments.\nGames & Auctions: Try your luck at the huge Chinese Auction or join in on the fun lawn games.\n\nThe Maple Splash Raffle\nThe main event is the legendary Maple Splash Raffle! We will be giving away a 2025 Chevy Silverado 1500 Crew 4WD cab truck along with other fantastic prizes. All proceeds from the day help support our local community. \nSupport Our Veterans\nWe are proud to support the Geauga Veteran’s Food Pantry during this event. We strongly encourage attendees to bring non-perishable items\, such as canned goods and paper products\, to donate at the gate. \nLogistics\n\nDate: Saturday\, July 11\, 2026\nTime: 2:00 PM – 9:00 PM\nWhat to bring: Lawn chairs and friends!
URL:https://centuryvillagemuseum.org/event/maple-splash-festival-2026/
LOCATION:Century Village Museum\, 14653 E Park St\,\, Burton\, OH\, 44021\, United States
CATEGORIES:Fundraisers,Special Events
ATTACH;FMTTYPE=image/jpeg:https://centuryvillagemuseum.org/wp-content/uploads/2026/02/maple-splashfinal.jpeg
ORGANIZER;CN="Century Village Museum":MAILTO:info@geaugahistorical.org
END:VEVENT
BEGIN:VEVENT
DTSTART;TZID=America/New_York:20260911T160000
DTEND;TZID=America/New_York:20260912T220000
DTSTAMP:20260422T092716
CREATED:20260318T215721Z
LAST-MODIFIED:20260330T060828Z
UID:16850-1789142400-1789250400@centuryvillagemuseum.org
SUMMARY:Light Up The Night – 3rd Annual Balloon Festival
DESCRIPTION:Experience the Magic!\nJoin us for the 3rd Annual Light Up the Night Balloon Festival\, proudly hosted by Preston Superstore! Enjoy an unforgettable evening filled with glowing hot air balloons\, family fun\, and great food at Century Village Museum. \nFestival Highlights\n\nBalloon Glow at Dusk: Watch the balloons beautifully illuminate the evening sky.\nRE/MAX Tethered Hot Air Balloon Rides: Take a breathtaking ride and enjoy the festival view from above.\nCornhole Competitions: Step up to the boards\, show off your skills\, and compete for cash prizes!\nHistorical Buildings Open: Explore our charming 19th-century homes and buildings and step back in time.\nKids Activities: Plenty of fun and games to keep the little ones entertained all evening.\nFood Vendors Galore: Enjoy a wide variety of delicious festival foods and sweet treats.\nBeer & Wine Garden: Adults can relax and unwind with refreshing beverages in our adult garden.\n\nEvent Logistics\nDates: September 11 & 12\nTime: 4:00 PM – 10:00 PM\nLocation: Century Village Museum Grounds (Burton\, Ohio)\nAdmission: FREE to enter! (Donations are highly encouraged\, as they directly support the museum.) \nLight Up the Night With Us!\nBring your family\, friends\, and neighbors\, and watch the sky light up! We can’t wait to share this unforgettable\, magic-filled weekend with you.
URL:https://centuryvillagemuseum.org/event/light-up-the-night-3rd-annual-balloon-festival/
LOCATION:Century Village Museum\, 14653 E Park St\,\, Burton\, OH\, 44021\, United States
CATEGORIES:Festivals
ATTACH;FMTTYPE=image/jpeg:https://centuryvillagemuseum.org/wp-content/uploads/2026/03/LightFinal.jpeg
END:VEVENT
END:VCALENDAR